BEGIN:VCALENDAR
VERSION:2.0
PRODID:-//Campus Internazionale di Musica - Latina - ECPv5.14.2.1//NONSGML v1.0//EN
CALSCALE:GREGORIAN
METHOD:PUBLISH
X-WR-CALNAME:Campus Internazionale di Musica - Latina
X-ORIGINAL-URL:https://www.campusmusica.it
X-WR-CALDESC:Eventi per Campus Internazionale di Musica - Latina
BEGIN:VTIMEZONE
TZID:Europe/Rome
BEGIN:DAYLIGHT
TZOFFSETFROM:+0100
TZOFFSETTO:+0200
TZNAME:CEST
DTSTART:20220327T010000
END:DAYLIGHT
BEGIN:STANDARD
TZOFFSETFROM:+0200
TZOFFSETTO:+0100
TZNAME:CET
DTSTART:20221030T010000
END:STANDARD
END:VTIMEZONE
BEGIN:VEVENT
DTSTART;TZID=Europe/Rome:20220711T170000
DTEND;TZID=Europe/Rome:20220711T170000
DTSTAMP:20260424T060938
CREATED:20220606T094345Z
LAST-MODIFIED:20220613T154443Z
UID:3011-1657558800-1657558800@www.campusmusica.it
SUMMARY:Tavola rotonda. La musica del nostro tempo e il suo pubblico
DESCRIPTION:Tavola rotonda \nLa musica del nostro tempo e il suo pubblico \nIntroduce e modera: Federico Gardella \nPartecipano: Alfonso Alberti\, Gabriele Bonomo\, Roberto Favaro\, Gabriele Manca\, Francesco Mariotti\, Nicki Pipita\, Marco Quagliarini\, Paolo Rotili\, Fausto Sebastiani\, Daniela Tortora  
URL:https://www.campusmusica.it/event/la-musica-del-nostro-tempo-e-il-pubblico/
LOCATION:Sermoneta\, Chiesa di San Michele Arcangelo\, Via Papa Paolo VI\, 2\,\, Sermoneta\, LT\, 25055
CATEGORIES:Festival Pontino,Incontri internazionali di musica contemporanea
ATTACH;FMTTYPE=image/jpeg:https://www.campusmusica.it/wp-content/uploads/2022/06/chiesa-san-michele-arcangelo-di-sermoneta-campus-musica.jpg
END:VEVENT
END:VCALENDAR