BEGIN:VCALENDAR
VERSION:2.0
PRODID:-//Campus Internazionale di Musica - Latina - ECPv5.14.2.1//NONSGML v1.0//EN
CALSCALE:GREGORIAN
METHOD:PUBLISH
X-WR-CALNAME:Campus Internazionale di Musica - Latina
X-ORIGINAL-URL:https://www.campusmusica.it
X-WR-CALDESC:Eventi per Campus Internazionale di Musica - Latina
BEGIN:VTIMEZONE
TZID:Europe/Rome
BEGIN:DAYLIGHT
TZOFFSETFROM:+0100
TZOFFSETTO:+0200
TZNAME:CEST
DTSTART:20220327T010000
END:DAYLIGHT
BEGIN:STANDARD
TZOFFSETFROM:+0200
TZOFFSETTO:+0100
TZNAME:CET
DTSTART:20221030T010000
END:STANDARD
END:VTIMEZONE
BEGIN:VEVENT
DTSTART;TZID=Europe/Rome:20220728T210000
DTEND;TZID=Europe/Rome:20220728T210000
DTSTAMP:20260424T114013
CREATED:20220601T152723Z
LAST-MODIFIED:20220613T151653Z
UID:2928-1659042000-1659042000@www.campusmusica.it
SUMMARY:“I Campi Elisi” La musica strumentale a Roma tra ‘500 e ‘600
DESCRIPTION:In collaborazione con la Civica Scuola di Musica Claudio Abbado di Milano \nAriadna Quappe\, cornetto e flauto dolce\nAnaïs Lauwaert\, viola da gamba\nAna Marija Krajnc\, cembalo \nG. Frescobaldi\, Toccata per spinettina e violino\nda: “Il primo libro delle canzoni a una\, due\, tre…” (Roma\, 1628)\nG. Frescobaldi\, Capriccio sopra l’aria di Ruggiero\nda: “Il primo libro di capricci…” (Roma\, 1624)\nCipriano de Rore\, Ancor che col partire\nda: “Il vero modo di diminuir…” (Venezia\, 1584)\nG. Frescobaldi\, Canzona vigesimaseconda\, detta la Nicolina\nda: “Il primo libro delle canzoni a una\, due\, tre…” (Roma\, 1628)\nG. P. da Palestrina\, Vestiva i colli – Così le chiome\nG. Frescobaldi\, Canzona prima\nda: “Il secondo libro ti toccate\, canzone…” (Roma\, 1637)\nG. P. da Palestrina\, Tota Pulchra es\nF. Caroso\, Celeste giglio\, balletto\nda: “Raccolta di varij Balli…” (Roma\, 1630)
URL:https://www.campusmusica.it/event/i-campi-elisi-la-musica-strumentale-a-roma-tra-500-e-600/
LOCATION:Cori\, Chiostro di S. Oliva
CATEGORIES:Festival Pontino
ATTACH;FMTTYPE=image/jpeg:https://www.campusmusica.it/wp-content/uploads/2022/06/chiostro-sant-oliva-cori.jpg
END:VEVENT
END:VCALENDAR